BEGIN:VCALENDAR
VERSION:2.0
PRODID:-//eventon.com NONSGML v1.0//EN
BEGIN:VEVENT
UID:69e634bc833ca
DTSTAMP:20260420T161420
DTSTART:20191007T073000Z
DTEND:20191007T090000Z
LOCATION:Bünde Marktstr. 1 Marktstraße 1\,  32257 Bünde
SUMMARY:Ganzheitliches Gedächtnistraining
DESCRIPTION: Schlüssel verlegt? Sie haben vergessen\,  wo Ihre Brille liegt? Sie stehen im Keller und wissen nicht mehr\,  was Sie von dort holen wollten? Abwechslungsreiche Fitnessübungen für die grauen Zellen verbessern die Denkleistung spürbar\,  erleichtern den Alltag und erhöhen die Lebensqualität. In diesem Kurs lernen Sie\,  wie Sie die verschiedenen Bereiche[..]
URL:https://www.wgw-weiterbildung.de/events/ganzheitliches-gedaechtnistraining-9/
END:VEVENT
END:VCALENDAR