BEGIN:VCALENDAR
VERSION:2.0
PRODID:-//eventon.com NONSGML v1.0//EN
BEGIN:VEVENT
UID:69e99dc27bbb6
DTSTAMP:20260423T061914
DTSTART:20190828T220000Z
DTEND:20190830T220000Z
LOCATION:FLW Hermannstraße 7\,  32051 Herford
SUMMARY:Projektmanagement
DESCRIPTION: Inhaltliche Beschreibung und Details unter: FLW-Herford &nbsp; &nbsp;
URL:https://www.wgw-weiterbildung.de/events/projektmanagement/
END:VEVENT
END:VCALENDAR