BEGIN:VCALENDAR
VERSION:2.0
PRODID:-//eventon.com NONSGML v1.0//EN
BEGIN:VEVENT
UID:69eb880231dc2
DTSTAMP:20260424T171058
DTSTART:20190528T161500Z
DTEND:20190528T174500Z
LOCATION:Wohnen am Tabakspeicher Wasserbreite 6-8\,  32257 Bünde
SUMMARY:Meditatives Tanzen
DESCRIPTION: Einführung in die praktische Anwendung Meditatives Tanzen ist für alle Personen geeignet\,  die Freude an der Bewegung haben. Es ist ein ausgezeichnetes Medium\,  um die Einheit von Körper\,  Geist und Seele unmittelbar und bewegend zu erfahren und dadurch beruflicher Anspannung und Stress aktiv entgegen zu arbeiten. &nbsp; Leitung     :      Ruth[..]
URL:https://www.wgw-weiterbildung.de/events/meditatives-tanzen-12/
END:VEVENT
END:VCALENDAR