BEGIN:VCALENDAR
VERSION:2.0
PRODID:-//eventon.com NONSGML v1.0//EN
BEGIN:VEVENT
UID:69eb58d95b7c5
DTSTAMP:20260424T134945
DTSTART:20190503T083000Z
DTEND:20190705T093000Z
LOCATION:Hauptschule Bünde Südring Heidestr. 41\,  32257 Bünde
SUMMARY:Stressbewältigung - Indian Balance
DESCRIPTION: …vereint das indianische Wissen um das Fließen der Körperenergie mit moderner Bewegungslehre. Es besteht aus einem Wechsel zwischen fließenden Aktionen\,  bewusster Atmung und Muskelkontraktionen. Die Verbindung zum natürlichen Körpergefühl soll wieder hergestellt werden. Es ist eine Symbiose aus aktiver Bewegung und Musik. Das Training wird von indianischer Musik begleitet\,  die[..]
URL:https://www.wgw-weiterbildung.de/events/stressbewaeltigung-indian-balance-2/
END:VEVENT
END:VCALENDAR