BEGIN:VCALENDAR
VERSION:2.0
PRODID:-//eventon.com NONSGML v1.0//EN
BEGIN:VEVENT
UID:69e7368726d2b
DTSTAMP:20260421T103415
DTSTART:20190108T170000Z
DTEND:20190312T180000Z
LOCATION:Deutsches Rotes Kreuz Sachsenstr. 116\,  32257 Bünde
SUMMARY:Stressbewältigung – Energy Dance
DESCRIPTION: Dieses nicht-choreografische Bewegungstraining aktiviert und entspannt\,  baut Stress ab\,  belebt die Lebensenergie\,  fördert das Körperbewusstsein\,  trainiert Herz-Kreislauf\,  Muskulatur und Beweglichkeit. Im Zusammenspiel von abwechslungsreicher Musik und sich fließend entwickelnden rhythmischen Bewegungsfolgen erfahren die Teilnehmer ein ganz neues Bewegungserlebnis. jeweils dienstags (10x) &nbsp; Leitung     :      Kristina Brunsch Gebühr     :      45\, -- €
URL:https://www.wgw-weiterbildung.de/events/stressbewaeltigung-energy-dance-6/
END:VEVENT
END:VCALENDAR