BEGIN:VCALENDAR
VERSION:2.0
PRODID:-//eventon.com NONSGML v1.0//EN
BEGIN:VEVENT
UID:69eb514b11975
DTSTAMP:20260424T131731
DTSTART:20241231T220000Z
DTEND:20251231T215900Z
LOCATION:Schulen Kreis Herford 
SUMMARY:ESF – Weiterbildung geht zur Schule: Zukunftsgestaltung - Alltagsbewältigung\,  Arbeitswelt und Selbstentfaltung nach der Schule
DESCRIPTION: Nach Verlassen der allgemeinbildenden Schulen beginnt für Jugendliche ein neuer Lebensabschnitt: Sie treten in die Arbeitswelt bzw. eine vorgeschaltete\,  berufsorientierende Maßnahme ein\,  verlassen ggf. das Elternhaus und müssen ihr eigenes Leben organisieren. Das neue Umfeld\,  z.B. Berufsschule\,  Ausbildungsbetrieb\,  Vermieter\,  Behörden\,  Banken und Geschäftswelt\,  stellt an sie Erwartungen\,  aber auch sie[..]
URL:https://www.wgw-weiterbildung.de/events/esf-weiterbildung-geht-zur-schule-zukunftsgestaltung-alltagsbewaeltigung-arbeitswelt-und-selbstentfaltung-nach-der-schule-2/
END:VEVENT
END:VCALENDAR