BEGIN:VCALENDAR
VERSION:2.0
PRODID:-//eventon.com NONSGML v1.0//EN
BEGIN:VEVENT
UID:69e5f730e725f
DTSTAMP:20260420T115144
DTSTART:20180411T130000Z
DTEND:20180613T140000Z
LOCATION:Deutsches Rotes Kreuz Sachsenstr. 116\,  32257 Bünde
SUMMARY:Osteoporose - Gymnastik  (Einführungskurs)
DESCRIPTION: Für den Aufbau des Knochens ist u. a. die Beanspruchung durch die Muskulatur notwendig. In diesem Kurs wird ein gezieltes Gymnastikprogramm angeboten\,  das dazu beiträgt\,  einen weiteren Knochensubstanzabbau zu verzögern\,  die Muskulatur zu kräftigen und Gelenkversteifungen vorzubeugen\,  sowie spezielle gymnastische Übungen für die weitere regelmäßige Anwendung zu Hause. jeweils mittwochs[..]
URL:https://www.wgw-weiterbildung.de/events/osteoporose-gymnastik-einfuehrungskurs-16/
END:VEVENT
END:VCALENDAR