BEGIN:VCALENDAR
VERSION:2.0
PRODID:-//eventon.com NONSGML v1.0//EN
BEGIN:VEVENT
UID:69e60b9b6e049
DTSTAMP:20260420T131851
DTSTART:20180412T163000Z
DTEND:20180614T180000Z
LOCATION:Deutsches Rotes Kreuz Sachsenstr. 116\,  32257 Bünde
SUMMARY:Line Dance
DESCRIPTION: Einführung in die praktische Anwendung Line Dance ist eine Tanzform\,  die in Linien neben- und hintereinander getanzt wird; ein Partner ist nicht erforderlich. Getanzt wird meist zu Country Musik. Ausdauer\,  Kondition\,  Koordination und Merkfähigkeit werden trainiert und gesteigert und wirken sich daher auf den Alltag positiv aus jeweils mittwochs &nbsp;[..]
URL:https://www.wgw-weiterbildung.de/events/line-dance-3/
END:VEVENT
END:VCALENDAR