BEGIN:VCALENDAR
VERSION:2.0
PRODID:-//eventon.com NONSGML v1.0//EN
BEGIN:VEVENT
UID:69e5e65302e4e
DTSTAMP:20260420T103947
DTSTART:20180409T154500Z
DTEND:20180611T171500Z
LOCATION:Wohnen am Tabakspeicher Wasserbreite 6-8\,  32257 Bünde
SUMMARY:Rücken – Fit  -  Einführung in die Wirbelsäulengymnastik
DESCRIPTION: In den letzten Jahren haben sich Rückenschmerzen zur Volkskrankheit Nr. 1 entwickelt. Vor allem in Berufen mit überwiegend sitzender Tätigkeit sind Bewegungsmangel\,  ungesunde Körperhaltung und falsche Bewegungsabläufe Ursache von Rückenproblemen. Die Wirbelsäulengymnastik dient der Haltungsschulung. Ein kontrolliertes Training zur Stärkung der Wirbelsäule\,  zur Entkrampfung der Rücken-muskulatur und Durchblutungsförderung soll präventiv[..]
URL:https://www.wgw-weiterbildung.de/events/ruecken-fit-einfuehrung-in-die-wirbelsaeulengymnastik-37/
END:VEVENT
END:VCALENDAR