BEGIN:VCALENDAR
VERSION:2.0
PRODID:-//eventon.com NONSGML v1.0//EN
BEGIN:VEVENT
UID:69ed8a488afdc
DTSTAMP:20260426T054512
DTSTART:20171113T173000Z
DTEND:20171113T190000Z
LOCATION:Universum Bünde Hauptstr. 9\,  32257 Bünde
SUMMARY:Ohrprobleme und Schwindel
DESCRIPTION: Leitung     :      Dr. D. Walter Gebühr     :      3\, -- €
URL:https://www.wgw-weiterbildung.de/events/ohrprobleme-und-schwindel/
END:VEVENT
END:VCALENDAR