BEGIN:VCALENDAR
VERSION:2.0
PRODID:-//eventon.com NONSGML v1.0//EN
BEGIN:VEVENT
UID:69e8900789da1
DTSTAMP:20260422T110823
DTSTART:20170425T124500Z
DTEND:20170425T134500Z
LOCATION:Deutsches Rotes Kreuz Sachsenstr. 116\,  32257 Bünde
SUMMARY:Osteoporose - Gymnastik  (Einführungskurs)
DESCRIPTION: Für den Aufbau des Knochens ist u. a. die Beanspruchung durch die Muskulatur notwendig. In diesem Kurs wird ein gezieltes Gymnastikprogramm angeboten\,  das dazu beiträgt\,  einen weiteren Knochensubstanzabbau zu verzögern\,  die Muskulatur zu kräftigen und Gelenkversteifungen vorzubeugen\,  sowie spezielle gymnastische Übungen für die weitere regelmäßige Anwendung zu Hause. jeweils dienstags[..]
URL:https://www.wgw-weiterbildung.de/events/osteoporose-gymnastik-einfuehrungskurs-2/
END:VEVENT
END:VCALENDAR