BEGIN:VCALENDAR
VERSION:2.0
PRODID:-//eventon.com NONSGML v1.0//EN
BEGIN:VEVENT
UID:69e7af908229e
DTSTAMP:20260421T191040
DTSTART:20250828T174500Z
DTEND:20251211T190000Z
LOCATION:Bahnhofstraße 78\,  Bünde Bahnhofstraße 78\,  32257 Bünde
SUMMARY:Rücken – Fit  -  Einführung in die Wirbelsäulengymnastik
DESCRIPTION: In den letzten Jahren haben sich Rückenschmerzen zur Volkskrankheit Nr. 1 entwickelt. Vor allem in Berufen mit überwiegend sitzender Tätigkeit sind Bewegungsmangel\,  ungesunde Körperhaltung und falsche Bewegungsabläufe Ursache von Rückenproblemen. Die Wirbelsäulengymnastik dient der Haltungsschulung. Ein kontrolliertes Training zur Stärkung der Wirbelsäule\,  zur Entkrampfung der Rücken-muskulatur und Durchblutungsförderung soll präventiv[..]
URL:https://www.wgw-weiterbildung.de/events/ruecken-fit-einfuehrung-in-die-wirbelsaeulengymnastik-172/
END:VEVENT
END:VCALENDAR