BEGIN:VCALENDAR
VERSION:2.0
PRODID:-//eventon.com NONSGML v1.0//EN
BEGIN:VEVENT
UID:69e77ba5a4377
DTSTAMP:20260421T152909
DTSTART:20251130T220000Z
DTEND:20251218T220000Z
LOCATION:
SUMMARY:Auswirkungen politischer und sozialrechtlicher Rahmenbedingungen auf den Berufsalltag
DESCRIPTION: Die steigende Komplexität rechtlicher\,  wirtschaftlicher\,  ökologischer\,  politischer und gesellschaftlicher Zusammenhänge im Alltag verlangt von Bürger*innen entsprechendes Orientierungs-\,  Überblicks- und Fachwissen\,  um selbstständig und kompetent Entscheidungen u.a. im Berufsalltag treffen zu können. Dabei haben politische Entscheidungen direkte und mittelbare Auswirkungen auf den Beruf und die Arbeitswelt\,  zu denen sich Arbeitnehmer*innen und[..]
URL:https://www.wgw-weiterbildung.de/events/auswirkungen-politischer-und-sozialrechtlicher-rahmenbedingungen-auf-den-berufsalltag-copy/
END:VEVENT
END:VCALENDAR