BEGIN:VCALENDAR
VERSION:2.0
PRODID:-//eventon.com NONSGML v1.0//EN
BEGIN:VEVENT
UID:69e5e52462952
DTSTAMP:20260420T103444
DTSTART:20220101T060000Z
DTEND:20221231T140000Z
LOCATION:Italien\,  Casalpusterlengo 
SUMMARY:Denke Global - Handle Lokal (Seminar I)
DESCRIPTION: Mit der Seminarreihe "Denke Global – Handle Lokal" soll das Bewusstsein der Beteiligten für eine nachhaltige\,  gesunde Ernährung geschärft werden. Die Beteiligten sollen das eigene Konsumverhalten überdenken\,  indem sie den Mehrwert regionaler Produkte kennenlernen. Das Projekt unterstützt zudem die Teilnehmer beim Erwerb und der Entwicklung von Grundfertigkeiten und Schlüsselkompetenzen (z.B.[..]
URL:https://www.wgw-weiterbildung.de/events/denke-global-handle-lokal-seminar-i-2/
END:VEVENT
END:VCALENDAR