BEGIN:VCALENDAR
VERSION:2.0
PRODID:-//eventon.com NONSGML v1.0//EN
BEGIN:VEVENT
UID:69eba8816cdf7
DTSTAMP:20260424T192937
DTSTART:20210208T164500Z
DTEND:20210315T174500Z
LOCATION:Else-Studio Ernst-Reuter-Str. 2\,  
SUMMARY:Stressbewältigung - Hasya Yoga / Lachyoga
DESCRIPTION: Beim Lachyoga kommt der Teilnehmer über die motorische Ebene zum Lachen. Ein anfangs künstliches Lachen soll in echtes Lachen übergehen. Die Lachyogaübungen sind eine Kombination aus Klatsch-\,  Dehn- und Atemübungen\,  durch die der Körper zuerst energetisiert und aktiviert wird\,  um dann zu entspannen. Lachyoga belebt\,  löst Spannungen\,  führt zu neuer[..]
URL:https://www.wgw-weiterbildung.de/events/stressbewaeltigung-hasya-yoga-lachyoga-9/
END:VEVENT
END:VCALENDAR