BEGIN:VCALENDAR
VERSION:2.0
PRODID:-//eventon.com NONSGML v1.0//EN
BEGIN:VEVENT
UID:69eb92cfbc785
DTSTAMP:20260424T175703
DTSTART:20210202T161500Z
DTEND:20210322T174500Z
LOCATION:Else-Studio Ernst-Reuter-Str. 2\,  
SUMMARY:Stressbewältigung – Hatha-Yoga für  Anfänger
DESCRIPTION: Dieser Kurs fördert durch einfache Körperhaltungen die Beweglichkeit aller Gelenke\,  insbesondere der Wirbelsäule. Die bessere Durchblutung des gesamten Organismus als Resultat des Übens hat einen positiven Effekt für die Gesundheit. Hatha-Yoga beruht auf dem Prinzip der Anspannung und Entspannung im harmonischen Wechsel. Deshalb tritt neben das Dehnen\,  Strecken und Lösen[..]
URL:https://www.wgw-weiterbildung.de/events/stressbewaeltigung-hatha-yoga-fuer-anfaenger-17/
END:VEVENT
END:VCALENDAR