BEGIN:VCALENDAR
VERSION:2.0
PRODID:-//eventon.com NONSGML v1.0//EN
BEGIN:VEVENT
UID:69e8a7b008a1f
DTSTAMP:20260422T124920
DTSTART:20210326T161500Z
DTEND:20210326T171500Z
LOCATION:Else-Studio Ernst-Reuter-Str. 2\,  
SUMMARY:Meditatives Tanzen
DESCRIPTION: Einführung in die praktische Anwendung Meditatives Tanzen ist für alle Personen geeignet\,  die Freude an der Bewegung haben. Es ist ein ausgezeichnetes Medium\,  um die Einheit von Körper\,  Geist und Seele unmittelbar und bewegend zu erfahren und dadurch beruflicher Anspannung und Stress aktiv entgegen zu arbeiten. &nbsp; Leitung     :      Ruth[..]
URL:https://www.wgw-weiterbildung.de/events/meditatives-tanzen-22/
END:VEVENT
END:VCALENDAR