BEGIN:VCALENDAR
VERSION:2.0
PRODID:-//eventon.com NONSGML v1.0//EN
BEGIN:VEVENT
UID:69e88f42af7cd
DTSTAMP:20260422T110506
DTSTART:20210116T073000Z
DTEND:20210320T083000Z
LOCATION:Else-Studio Ernst-Reuter-Str. 2\,  
SUMMARY:Stressbewältigung - Aroha®
DESCRIPTION: Aroha ist ein effektives Training\,  bei dem sich fließende\,  harmonische Bewegungen und kraftvolle\,  ausdrucksstarke Elemente abwechseln. Durch die verschiedenen Schritte kommt es zu einer Steigerung der Balance und der Flexibilität sowie zur Verbesserung des Koordinationsvermögens. Aggressionen können artikuliert und abgebaut werden\,  Aroha sorgt für Stressabbau. Das Training ist für alle[..]
URL:https://www.wgw-weiterbildung.de/events/stressbewaeltigung-aroha/
END:VEVENT
END:VCALENDAR