BEGIN:VCALENDAR
VERSION:2.0
PRODID:-//eventon.com NONSGML v1.0//EN
BEGIN:VEVENT
UID:69ea843e3528d
DTSTAMP:20260423T224238
DTSTART:20210413T070000Z
DTEND:20210629T080000Z
LOCATION:Else-Studio Ernst-Reuter-Str. 2\,  
SUMMARY:Rücken-Fit  65+
DESCRIPTION: Bewegung ist eine grundlegende Voraussetzung\,  um gesund und beweglich auch im geistigen Sinne zu bleiben. Häufig scheitern aber alle guten Vorsätze und Bemühungen daran\,  dass es an der Motivation für körperliche Bewegung ohne Anleitung mangelt. Dieser Kurs wendet sich an Personen\,  die 65 Jahre und älter sind. Fähigkeiten wie Kondition[..]
URL:https://www.wgw-weiterbildung.de/events/ruecken-fit-65-28/
END:VEVENT
END:VCALENDAR