BEGIN:VCALENDAR
VERSION:2.0
PRODID:-//eventon.com NONSGML v1.0//EN
BEGIN:VEVENT
UID:69e73f9830a07
DTSTAMP:20260421T111256
DTSTART:20210112T150000Z
DTEND:20210323T161500Z
LOCATION:Turnhalle Forscherhaus Heidestraße 41
SUMMARY:Rücken – Fit  -  Einführung in die Wirbelsäulengymnastik
DESCRIPTION: In den letzten Jahren haben sich Rückenschmerzen zur Volkskrankheit Nr. 1 entwickelt. Vor allem in Berufen mit überwiegend sitzender Tätigkeit sind Bewegungsmangel\,  ungesunde Körperhaltung und falsche Bewegungsabläufe Ursache von Rückenproblemen. Die Wirbelsäulengymnastik dient der Haltungsschulung. Ein kontrolliertes Training zur Stärkung der Wirbelsäule\,  zur Entkrampfung der Rücken-muskulatur und Durchblutungsförderung soll präventiv[..]
URL:https://www.wgw-weiterbildung.de/events/ruecken-fit-einfuehrung-in-die-wirbelsaeulengymnastik-144/
END:VEVENT
END:VCALENDAR