BEGIN:VCALENDAR
VERSION:2.0
PRODID:-//eventon.com NONSGML v1.0//EN
BEGIN:VEVENT
UID:69e8d3c6b2c97
DTSTAMP:20260422T155726
DTSTART:20210412T151500Z
DTEND:20210628T163000Z
LOCATION:Else-Studio Ernst-Reuter-Str. 2\,  
SUMMARY:Rücken – Fit  -  Einführung in die Wirbelsäulengymnastik
DESCRIPTION: In den letzten Jahren haben sich Rückenschmerzen zur Volkskrankheit Nr. 1 entwickelt. Vor allem in Berufen mit überwiegend sitzender Tätigkeit sind Bewegungsmangel\,  ungesunde Körperhaltung und falsche Bewegungsabläufe Ursache von Rückenproblemen. Die Wirbelsäulengymnastik dient der Haltungsschulung. Ein kontrolliertes Training zur Stärkung der Wirbelsäule\,  zur Entkrampfung der Rücken-muskulatur und Durchblutungsförderung soll präventiv[..]
URL:https://www.wgw-weiterbildung.de/events/ruecken-fit-einfuehrung-in-die-wirbelsaeulengymnastik-137/
END:VEVENT
END:VCALENDAR