BEGIN:VCALENDAR
VERSION:2.0
PRODID:-//eventon.com NONSGML v1.0//EN
BEGIN:VEVENT
UID:69e5e6468e764
DTSTAMP:20260420T103934
DTSTART:20211105T060000Z
DTEND:20211105T150000Z
LOCATION:Miele Carl-Miele-Straße 29\,  33332 Gütersloh
SUMMARY:Die heimische Industrie - Die Firma Miele
DESCRIPTION: Mit Qualität und Innovationskraft\,  eingebettet in die Tradition von Familienunternehmen\,  die Nachhaltigkeit als grundlegende Unternehmensphilosophie in den Vordergrund stellen\,  haben es Firmen in der Region Ostwestfalen-Lippe verstanden\,  in den global aufgestellten Märkten weltweit Spitzenpositionen zu erreichen. Bertelsmann\,  Oetker\,  Miele\,  Imperial\,  Melitta\,  Phoenix\,  Brillux\,  FHB\,  und Hettich sind gute Beispiele für[..]
URL:https://www.wgw-weiterbildung.de/events/die-heimische-industrie-die-firma-miele/
END:VEVENT
END:VCALENDAR